BEGIN:VCALENDAR
X-LOTUS-CHARSET:UTF-8
VERSION:2.0
PRODID:-//om-termine//events v1.0//DE
BEGIN:VTIMEZONE
TZID:Europe/Berlin
BEGIN:STANDARD
DTSTART:16011028T030000
RRULE:FREQ=YEARLY;BYDAY=-1SU;BYMONTH=10
TZOFFSETFROM:+0200
TZOFFSETTO:+0100
END:STANDARD
BEGIN:DAYLIGHT
DTSTART:16010325T020000
RRULE:FREQ=YEARLY;BYDAY=-1SU;BYMONTH=3
TZOFFSETFROM:+0100
TZOFFSETTO:+0200
END:DAYLIGHT
END:VTIMEZONE
BEGIN:VEVENT
UID:om-termine-11768233
DTSTART;TZID=Europe/Berlin:20260423T081500
LOCATION:Rathaus
URL;VALUE=URI:https://om-termine.de/veranstaltung/transformation-zum-hybriden-vertrieb-mit-digitalen-tools-und-persoenlicher-naehe-zum-erfolg
SUMMARY:Transformation zum hybriden Vertrieb - Mit digitalen Tools und persönlicher Nähe zum Erfolg
END:VEVENT
END:VCALENDAR
